BEGIN:VCALENDAR
VERSION:2.0
PRODID:-//Center for Homeownership - ECPv6.11.0.1//NONSGML v1.0//EN
CALSCALE:GREGORIAN
METHOD:PUBLISH
X-ORIGINAL-URL:http://centerforhomeownership.org
X-WR-CALDESC:Events for Center for Homeownership
REFRESH-INTERVAL;VALUE=DURATION:PT1H
X-Robots-Tag:noindex
X-PUBLISHED-TTL:PT1H
BEGIN:VTIMEZONE
TZID:America/New_York
BEGIN:DAYLIGHT
TZOFFSETFROM:-0500
TZOFFSETTO:-0400
TZNAME:EDT
DTSTART:20260308T070000
END:DAYLIGHT
BEGIN:STANDARD
TZOFFSETFROM:-0400
TZOFFSETTO:-0500
TZNAME:EST
DTSTART:20261101T060000
END:STANDARD
END:VTIMEZONE
BEGIN:VEVENT
DTSTART;TZID=America/New_York:20260502T090000
DTEND;TZID=America/New_York:20260502T160000
DTSTAMP:20260421T084218
CREATED:20160426T180310Z
LAST-MODIFIED:20160426T180310Z
UID:943-1777712400-1777737600@centerforhomeownership.org
SUMMARY:Home Buyer Education Workshop
DESCRIPTION:HBEducationClassFlyer$50 for Forsyth County residents or $75 for Forsyth County non-residents
URL:http://centerforhomeownership.org/event/home-buyer-education-workshop-2026-05-02/
CATEGORIES:Homebuyer Education Workshops
ATTACH;FMTTYPE=image/png:http://centerforhomeownership.org/wp-content/uploads/2017/06/HBE.png
END:VEVENT
BEGIN:VEVENT
DTSTART;TZID=America/New_York:20260502T090000
DTEND;TZID=America/New_York:20260502T160000
DTSTAMP:20260421T084218
CREATED:20160426T180310Z
LAST-MODIFIED:20160426T180310Z
UID:944-1777712400-1777737600@centerforhomeownership.org
SUMMARY:Home Buyer Education Workshop
DESCRIPTION:$50 for Forsyth County residents or $75 for Forsyth County non-residents
URL:http://centerforhomeownership.org/event/home-buyer-education-workshop-2016-07-02-2026-05-02/
CATEGORIES:Homebuyer Education Workshops
ATTACH;FMTTYPE=image/png:http://centerforhomeownership.org/wp-content/uploads/2016/04/HBE.png
END:VEVENT
BEGIN:VEVENT
DTSTART;TZID=America/New_York:20260502T090000
DTEND;TZID=America/New_York:20260502T160000
DTSTAMP:20260421T084218
CREATED:20160426T180310Z
LAST-MODIFIED:20160426T180310Z
UID:947-1777712400-1777737600@centerforhomeownership.org
SUMMARY:Home Buyer Education Workshop
DESCRIPTION:$50 for Forsyth County residents or $75 for Forsyth County non-residents
URL:http://centerforhomeownership.org/event/home-buyer-education-workshop-2021-09-04-2026-05-02/
CATEGORIES:Homebuyer Education Workshops
ATTACH;FMTTYPE=image/jpeg:http://centerforhomeownership.org/wp-content/uploads/2019/09/Homebuyer-education-workshop.jpg
END:VEVENT
END:VCALENDAR